BEGIN:VCALENDAR
VERSION:2.0
PRODID:-//The Parish School - ECPv6.15.20//NONSGML v1.0//EN
CALSCALE:GREGORIAN
METHOD:PUBLISH
X-WR-CALNAME:The Parish School
X-ORIGINAL-URL:https://parishschool.org
X-WR-CALDESC:Events for The Parish School
REFRESH-INTERVAL;VALUE=DURATION:PT1H
X-Robots-Tag:noindex
X-PUBLISHED-TTL:PT1H
BEGIN:VTIMEZONE
TZID:America/Chicago
BEGIN:DAYLIGHT
TZOFFSETFROM:-0600
TZOFFSETTO:-0500
TZNAME:CDT
DTSTART:20250309T080000
END:DAYLIGHT
BEGIN:STANDARD
TZOFFSETFROM:-0500
TZOFFSETTO:-0600
TZNAME:CST
DTSTART:20251102T070000
END:STANDARD
BEGIN:DAYLIGHT
TZOFFSETFROM:-0600
TZOFFSETTO:-0500
TZNAME:CDT
DTSTART:20260308T080000
END:DAYLIGHT
BEGIN:STANDARD
TZOFFSETFROM:-0500
TZOFFSETTO:-0600
TZNAME:CST
DTSTART:20261101T070000
END:STANDARD
BEGIN:DAYLIGHT
TZOFFSETFROM:-0600
TZOFFSETTO:-0500
TZNAME:CDT
DTSTART:20270314T080000
END:DAYLIGHT
BEGIN:STANDARD
TZOFFSETFROM:-0500
TZOFFSETTO:-0600
TZNAME:CST
DTSTART:20271107T070000
END:STANDARD
END:VTIMEZONE
BEGIN:VEVENT
DTSTART;TZID=America/Chicago:20260206T111500
DTEND;TZID=America/Chicago:20260206T114500
DTSTAMP:20260421T113806
CREATED:20260121T162827Z
LAST-MODIFIED:20260121T162831Z
UID:24369-1770376500-1770378300@parishschool.org
SUMMARY:February Early Childhood Grandparents' Garden Group 2026
DESCRIPTION:Calling all Grandparent Gardeners!\nJoin the Parish Grandparents’ Garden Group. Whether you’re a master gardener or a novice looking to learn\, we’d love to have you! The Parish School’s Grandparents’ Garden Group meets during the school day throughout the year to keep Parish’s many gardens growing. \nIf you are new to our campus\, please have your driver’s license on hand to be checked into our Raptor visitor system. If you are a returning visitor\, we will have your visitor’s badge on hand and ready to go! Once you are cleared to enter\, please head to a picnic table to wait for your grandchild to arrive and/or to receive further instruction. All activities will take place outdoors. \nSchedule\nGardening with Grandchildren:Early Childhood: 11:15-11:45 a.m. \nGrandparents should coordinate with their grandchild’s parent(s) to: \n\nDetermine morning transportation arrangements (for elementary students). If parents are bringing the child to school\, they should continue through the regular carpool line. Our staff will guide the student to their grandparent in the courtyard. If the child is arriving with the grandparent\, please checkin in the front office before meeting in the courtyard.\nAsk the parent to notify your grandchild’s teacher that they will be gardening with you that day.\nDetermine afternoon transportation arrangements (for early childhood students). If the grandchild will be going home with the grandparent\, please have a parent notify their teacher.
URL:https://parishschool.org/event/february-early-childhood-grandparents-garden-group-2026/
LOCATION:The Parish School\, 11001 Hammerly Blvd\, Houston\, TX\, 77043\, United States
ATTACH;FMTTYPE=image/jpeg:https://parishschool.org/wp-content/uploads/2022/09/C33A9786-scaled.jpg
END:VEVENT
BEGIN:VEVENT
DTSTART;TZID=America/Chicago:20260213T075000
DTEND;TZID=America/Chicago:20260213T082000
DTSTAMP:20260421T113806
CREATED:20260121T163300Z
LAST-MODIFIED:20260121T163303Z
UID:24378-1770969000-1770970800@parishschool.org
SUMMARY:February Elementary Grandparents' Garden Group 2026
DESCRIPTION:Calling all Grandparent Gardeners!\nJoin the Parish Grandparents’ Garden Group. Whether you’re a master gardener or a novice looking to learn\, we’d love to have you! The Parish School’s Grandparents’ Garden Group meets during the school day throughout the year to keep Parish’s many gardens growing. \nIf you are new to our campus\, please have your driver’s license on hand to be checked into our Raptor visitor system. If you are a returning visitor\, we will have your visitor’s badge on hand and ready to go! Once you are cleared to enter\, please head to a picnic table to wait for your grandchild to arrive and/or to receive further instruction. All activities will take place outdoors. \nSchedule\nGardening with Grandchildren:Elementary: 7:50-8:20 a.m. \nGrandparents should coordinate with their grandchild’s parent(s) to: \n\nDetermine morning transportation arrangements (for elementary students). If parents are bringing the child to school\, they should continue through the regular carpool line. Our staff will guide the student to their grandparent in the courtyard. If the child is arriving with the grandparent\, please checkin in the front office before meeting in the courtyard.\nAsk the parent to notify your grandchild’s teacher that they will be gardening with you that day.\nDetermine afternoon transportation arrangements (for early childhood students). If the grandchild will be going home with the grandparent\, please have a parent notify their teacher.
URL:https://parishschool.org/event/february-elementary-grandparents-garden-group-2026/
LOCATION:The Parish School\, 11001 Hammerly Blvd\, Houston\, TX\, 77043\, United States
ATTACH;FMTTYPE=image/jpeg:https://parishschool.org/wp-content/uploads/2022/09/C33A9786-scaled.jpg
END:VEVENT
BEGIN:VEVENT
DTSTART;TZID=America/Chicago:20260217T081500
DTEND;TZID=America/Chicago:20260217T091500
DTSTAMP:20260421T113806
CREATED:20260204T170121Z
LAST-MODIFIED:20260216T161919Z
UID:24435-1771316100-1771319700@parishschool.org
SUMMARY:Adult Education: Real Talk About Dyslexia: What Parents Need to Know
DESCRIPTION:Join Parish staff member Tenesha Smith to learn more about dyslexia and how to support your student. Tenesha has a wealth of classroom experience in teaching and working with children with special needs and learning differences. She holds a bachelor’s degree from the University of Houston and a master’s degree in education from Houston Christian University. Tenesha is a Licensed Dyslexia Therapist and a Certified Academic Language Therapist. She is also a former SLP-A and has extensive experience working with students with communication differences.  \n  \nPresented by: \nTenesha Smith\, M.Ed.\,LDT\, CALT \n  \n 
URL:https://parishschool.org/event/adult-education-realtalkaboutdyslexia/
LOCATION:The Parish School\, 11001 Hammerly Blvd\, Houston\, TX\, 77043\, United States
CATEGORIES:Adult Education
ATTACH;FMTTYPE=image/jpeg:https://parishschool.org/wp-content/uploads/2022/07/C33A8944-2-Large.jpeg
END:VEVENT
BEGIN:VEVENT
DTSTART;TZID=America/Chicago:20260220T110000
DTEND;TZID=America/Chicago:20260220T120000
DTSTAMP:20260421T113806
CREATED:20260121T160604Z
LAST-MODIFIED:20260121T162357Z
UID:24360-1771585200-1771588800@parishschool.org
SUMMARY:PTO February 2026 Meeting
DESCRIPTION:The Parent Teacher Organization (PTO) of The Parish School provides a platform for relationship building\, support and volunteering. All parents of Parish students are members of PTO. Grandparents and other adult family members are also welcomed to become involved. Meetings are typically held on campus the first Friday of each month at 11 a.m. \n\n\n\n\nThe Parent Teacher Organization (PTO) of The Parish School provides a platform for relationship building\, support and volunteering. All parents of Parish students are members of PTO. Grandparents and other adult family members are also welcomed to become involved. \nThe Parish PTO supports the school’s mission to educate children who have communication delays and learning differences\, empowering them with the tools to succeed. It does this by: \n\nenriching the experience of children and families at The Parish School\nencouraging parent involvement;\n\n\nsupporting the advancement of the school through outreach\, fundraisers and community-building\n\n\ndeepening the connection of families to The Parish School\n\n\nvolunteering.\n\nPTO leadership is comprised of a president\, vice president and several chairs of various volunteer and fundraising initiatives throughout the year. \nWe would love to welcome and get to know you. \nWe’d love to see you in person\, but if you can’t make it to campus\, please join us virtually: \nhttps://us02web.zoom.us/j/82406835032?pwd=B1hcvvpxkmhtDx0rGLCdO33l7LHbFW.1
URL:https://parishschool.org/event/pto-february-2026-meeting/
LOCATION:The Parish School\, 11001 Hammerly Blvd\, Houston\, TX\, 77043\, United States
CATEGORIES:PTO
END:VEVENT
BEGIN:VEVENT
DTSTART;TZID=America/Chicago:20260226T083000
DTEND;TZID=America/Chicago:20260226T093000
DTSTAMP:20260421T113806
CREATED:20260204T171401Z
LAST-MODIFIED:20260204T171848Z
UID:24442-1772094600-1772098200@parishschool.org
SUMMARY:Camp For All Coffee Chat\, Lower & Upper Elementary | February 26\, 2026
DESCRIPTION:Lower & Upper Elementary parents\, join Hayley Boasman and Laura Causey to learn more about the upcoming field trip to Camp For All.
URL:https://parishschool.org/event/camp-for-all-coffee-chat-lower-upper-elementary-february-26-2026/
LOCATION:The Parish School\, 11001 Hammerly Blvd\, Houston\, TX\, 77043\, United States
CATEGORIES:Adult Education
END:VEVENT
END:VCALENDAR