BEGIN:VCALENDAR
VERSION:2.0
PRODID:-//The Parish School - ECPv6.15.20//NONSGML v1.0//EN
CALSCALE:GREGORIAN
METHOD:PUBLISH
X-WR-CALNAME:The Parish School
X-ORIGINAL-URL:https://parishschool.org
X-WR-CALDESC:Events for The Parish School
REFRESH-INTERVAL;VALUE=DURATION:PT1H
X-Robots-Tag:noindex
X-PUBLISHED-TTL:PT1H
BEGIN:VTIMEZONE
TZID:America/Chicago
BEGIN:DAYLIGHT
TZOFFSETFROM:-0600
TZOFFSETTO:-0500
TZNAME:CDT
DTSTART:20250309T080000
END:DAYLIGHT
BEGIN:STANDARD
TZOFFSETFROM:-0500
TZOFFSETTO:-0600
TZNAME:CST
DTSTART:20251102T070000
END:STANDARD
BEGIN:DAYLIGHT
TZOFFSETFROM:-0600
TZOFFSETTO:-0500
TZNAME:CDT
DTSTART:20260308T080000
END:DAYLIGHT
BEGIN:STANDARD
TZOFFSETFROM:-0500
TZOFFSETTO:-0600
TZNAME:CST
DTSTART:20261101T070000
END:STANDARD
BEGIN:DAYLIGHT
TZOFFSETFROM:-0600
TZOFFSETTO:-0500
TZNAME:CDT
DTSTART:20270314T080000
END:DAYLIGHT
BEGIN:STANDARD
TZOFFSETFROM:-0500
TZOFFSETTO:-0600
TZNAME:CST
DTSTART:20271107T070000
END:STANDARD
END:VTIMEZONE
BEGIN:VEVENT
DTSTART;TZID=America/Chicago:20260327T113000
DTEND;TZID=America/Chicago:20260327T120000
DTSTAMP:20260421T194548
CREATED:20260303T183012Z
LAST-MODIFIED:20260303T202320Z
UID:24835-1774611000-1774612800@parishschool.org
SUMMARY:PTO March 2026 Meeting
DESCRIPTION:The Parent Teacher Organization (PTO) of The Parish School provides a platform for relationship building\, support and volunteering. All parents of Parish students are members of PTO. Grandparents and other adult family members are also welcomed to become involved. Meetings are typically held on campus the first Friday of each month at 11 a.m. \n\n\n\n\nThe Parent Teacher Organization (PTO) of The Parish School provides a platform for relationship building\, support and volunteering. All parents of Parish students are members of PTO. Grandparents and other adult family members are also welcomed to become involved. \nThe Parish PTO supports the school’s mission to educate children who have communication delays and learning differences\, empowering them with the tools to succeed. It does this by: \n\nenriching the experience of children and families at The Parish School\nencouraging parent involvement;\n\n\nsupporting the advancement of the school through outreach\, fundraisers and community-building\n\n\ndeepening the connection of families to The Parish School\n\n\nvolunteering.\n\nPTO leadership is comprised of a president\, vice president and several chairs of various volunteer and fundraising initiatives throughout the year. \nWe would love to welcome and get to know you. \nWe’d love to see you in person\, but if you can’t make it to campus\, please join us virtually: \nhttps://us02web.zoom.us/j/82580735792?pwd=Nt0PLGKbuEyB6bubd8qK2DyIoMVMjD.1 \n 
URL:https://parishschool.org/event/pto-march-2026-meeting-2/
LOCATION:The Parish School\, 11001 Hammerly Blvd\, Houston\, TX\, 77043\, United States
CATEGORIES:PTO
END:VEVENT
BEGIN:VEVENT
DTSTART;TZID=America/Chicago:20260416T173000
DTEND;TZID=America/Chicago:20260416T193000
DTSTAMP:20260421T194548
CREATED:20260304T154546Z
LAST-MODIFIED:20260319T160717Z
UID:24826-1776360600-1776367800@parishschool.org
SUMMARY:2026 Middle and High School Parish Alumni Gathering
DESCRIPTION:Calling all middle and high school Parish alumni! We invite you to come back to The Parish School campus and hang out with old friends and teachers. Pizza and drinks will be provided\, and parents are welcome to join.  \nWe encourage all graduating seniors to bring their cap and gown for a photo! \nRSVP below by Friday\, April 10. \nDoor Prizes *Parish Teachers *AP Will Be Open \n			\n				RSVP
URL:https://parishschool.org/event/2026-middle-and-high-school-parish-alumni-gathering/
LOCATION:The Parish School\, 11001 Hammerly Blvd\, Houston\, TX\, 77043\, United States
ATTACH;FMTTYPE=image/jpeg:https://parishschool.org/wp-content/uploads/2025/04/C33A6866-scaled.jpg
END:VEVENT
BEGIN:VEVENT
DTSTART;VALUE=DATE:20260417
DTEND;VALUE=DATE:20260418
DTSTAMP:20260421T194548
CREATED:20260331T164224Z
LAST-MODIFIED:20260331T171948Z
UID:25069-1776384000-1776470399@parishschool.org
SUMMARY:April Grandparents' Garden Group 2026
DESCRIPTION:Calling all Grandparent Gardeners!\nJoin the Parish Grandparents’ Garden Group. Whether you’re a master gardener or a novice looking to learn\, we’d love to have you! The Parish School’s Grandparents’ Garden Group meets during the school day throughout the year to keep Parish’s many gardens growing. \nIf you are new to our campus\, please have your driver’s license on hand to be checked into our Raptor visitor system. If you are a returning visitor\, we will have your visitor’s badge on hand and ready to go! Once you are cleared to enter\, please head to a picnic table to wait for your grandchild to arrive and/or to receive further instruction. All activities will take place outdoors. \nSchedule\nGardening with Grandchildren:Elementary: 7:50-8:20 a.m. Early Childhood: 11:15-11:45 a.m. \nGrandparents should coordinate with their grandchild’s parent(s) to: \n\nDetermine morning transportation arrangements (for elementary students). If parents are bringing the child to school\, they should continue through the regular carpool line. Our staff will guide the student to their grandparent in the courtyard. If the child is arriving with the grandparent\, please checkin in the front office before meeting in the courtyard.\nAsk the parent to notify your grandchild’s teacher that they will be gardening with you that day.\nDetermine afternoon transportation arrangements (for early childhood students). If the grandchild will be going home with the grandparent\, please have a parent notify their teacher.
URL:https://parishschool.org/event/april-grandparents-garden-group-2026-2/
LOCATION:The Parish School\, 11001 Hammerly Blvd\, Houston\, TX\, 77043\, United States
ATTACH;FMTTYPE=image/jpeg:https://parishschool.org/wp-content/uploads/2022/09/C33A9786-scaled.jpg
END:VEVENT
BEGIN:VEVENT
DTSTART;TZID=America/Chicago:20260417T113000
DTEND;TZID=America/Chicago:20260417T120000
DTSTAMP:20260421T194548
CREATED:20260331T170450Z
LAST-MODIFIED:20260415T142702Z
UID:25075-1776425400-1776427200@parishschool.org
SUMMARY:PTO April 2026 Meeting
DESCRIPTION:The Parent Teacher Organization (PTO) of The Parish School provides a platform for relationship building\, support and volunteering. All parents of Parish students are members of PTO. Grandparents and other adult family members are also welcomed to become involved. Meetings are typically held on campus the first Friday of each month at 11 30 a.m. \n\n\n\n\nThe Parent Teacher Organization (PTO) of The Parish School provides a platform for relationship building\, support and volunteering. All parents of Parish students are members of PTO. Grandparents and other adult family members are also welcomed to become involved. \nThe Parish PTO supports the school’s mission to educate children who have communication delays and learning differences\, empowering them with the tools to succeed. It does this by: \n\nenriching the experience of children and families at The Parish School\nencouraging parent involvement;\n\n\nsupporting the advancement of the school through outreach\, fundraisers and community-building\n\n\ndeepening the connection of families to The Parish School\n\n\nvolunteering.\n\nPTO leadership is comprised of a president\, vice president and several chairs of various volunteer and fundraising initiatives throughout the year. \nWe would love to welcome and get to know you. \nWe’d love to see you in person\, but if you can’t make it to campus\, please join us virtually: \nhttps://us02web.zoom.us/j/88900024893?pwd=3B0UNvfyQCWhEcwLx0j7UQlaeagIPq.1 \n 
URL:https://parishschool.org/event/pto-april-2026-meeting/
LOCATION:The Parish School\, 11001 Hammerly Blvd\, Houston\, TX\, 77043\, United States
CATEGORIES:PTO
END:VEVENT
BEGIN:VEVENT
DTSTART;TZID=America/Chicago:20260430T140000
DTEND;TZID=America/Chicago:20260430T150000
DTSTAMP:20260421T194548
CREATED:20260326T135252Z
LAST-MODIFIED:20260331T152400Z
UID:25001-1777557600-1777561200@parishschool.org
SUMMARY:Upper & Lower Elementary Musical
DESCRIPTION:The Upper & Lower Elementary classes will perform their annual musical on Thursday\, April 30 at 2 p.m. in The Schissler Library at The Parish School. Seating will be limited\, please RSVP below.
URL:https://parishschool.org/event/upper-lower-elementary-music-3al/
LOCATION:The Schissler Library at The Parish School\, 11001 Hammerly Blvd\, Houston\, TX\, 77043\, United States
ATTACH;FMTTYPE=image/jpeg:https://parishschool.org/wp-content/uploads/2026/03/2026-Musical-Banner.jpg
END:VEVENT
BEGIN:VEVENT
DTSTART;TZID=America/Chicago:20260515T111500
DTEND;TZID=America/Chicago:20260515T121500
DTSTAMP:20260421T194548
CREATED:20260414T164801Z
LAST-MODIFIED:20260414T165101Z
UID:25270-1778843700-1778847300@parishschool.org
SUMMARY:Parent & Volunteer Appreciation
DESCRIPTION:You’re invited to an event honoring our amazing parents and volunteers! We would like to treat you to refreshments and spend some time sharing how supporters like you help make a difference in the lives of Parish School children and their families. \nYou’re invited to an event honoring YOU – our amazing parents and volunteers! \nPlease join us for a reception as we honor our volunteers and parents and all of their support and help this year in the classroom and/or with school events! Come hang out\, socialize\, grab some treats\, and be appreciated. You’ll also have the chance to win some amazing door prizes! \nIMPORTANT: Due to carpool traffic and logistics\, please follow these steps: \n\nRSVP to attend\nArrive and park before 11:30 a.m.\nCheck in at the front desk upon arrival (we will have tags pre-printed for everyone who has RSVP’d) \nPlan to leave after carpool. Your Parish student will be brought to you in the library at that time.
URL:https://parishschool.org/event/parent-volunteer-appreciation-2/
LOCATION:The Schissler Library at The Parish School\, 11001 Hammerly Blvd\, Houston\, TX\, 77043\, United States
ATTACH;FMTTYPE=image/jpeg:https://parishschool.org/wp-content/uploads/2024/04/C33A4870-scaled.jpg
END:VEVENT
BEGIN:VEVENT
DTSTART;TZID=America/Chicago:20260520T093000
DTEND;TZID=America/Chicago:20260520T103000
DTSTAMP:20260421T194548
CREATED:20260421T132838Z
LAST-MODIFIED:20260421T142940Z
UID:25375-1779269400-1779273000@parishschool.org
SUMMARY:Upper Elementary Commencement
DESCRIPTION:Join us in honoring our 2025-26 commencing students with a ceremony on Wednesday\, May 20. \nUpper Elementary Commencement \nWe celebrate the achievements of our commencing students and wish them the best as they embark on the next steps in their educational journey. \nWednesday\, May 20 at The Parish School \nUpper elementary families\, join us in recognizing 2025-26 commencing students with a ceremony on Wednesday\, May 20 at The Parish School. Families of commencing students\, please RSVP with guest count.  \nAttire\nCommencement is a semi-formal affair. We ask that boys wear a white\, button-down\, collared shirt with a tie\, slacks and dress shoes. Girls should wear a dress\, skirt or slacks with a nice top. \nGuests\nRSVP is required to attend. Please RSVP by Wednesday\, May 13. \nQuestions?  \nHayley Boasman\, Director of Elementary\, at hboasman@parishschool.org. \n 
URL:https://parishschool.org/event/2026-upper-elementary-commencement/
LOCATION:The Schissler Library at The Parish School\, 11001 Hammerly Blvd\, Houston\, TX\, 77043\, United States
ATTACH;FMTTYPE=image/jpeg:https://parishschool.org/wp-content/uploads/2026/04/2025-Commencement-scaled.jpg
END:VEVENT
END:VCALENDAR