BEGIN:VCALENDAR
VERSION:2.0
PRODID:-//The Parish School - ECPv6.15.20//NONSGML v1.0//EN
CALSCALE:GREGORIAN
METHOD:PUBLISH
X-WR-CALNAME:The Parish School
X-ORIGINAL-URL:https://parishschool.org
X-WR-CALDESC:Events for The Parish School
REFRESH-INTERVAL;VALUE=DURATION:PT1H
X-Robots-Tag:noindex
X-PUBLISHED-TTL:PT1H
BEGIN:VTIMEZONE
TZID:America/Chicago
BEGIN:DAYLIGHT
TZOFFSETFROM:-0600
TZOFFSETTO:-0500
TZNAME:CDT
DTSTART:20250309T080000
END:DAYLIGHT
BEGIN:STANDARD
TZOFFSETFROM:-0500
TZOFFSETTO:-0600
TZNAME:CST
DTSTART:20251102T070000
END:STANDARD
BEGIN:DAYLIGHT
TZOFFSETFROM:-0600
TZOFFSETTO:-0500
TZNAME:CDT
DTSTART:20260308T080000
END:DAYLIGHT
BEGIN:STANDARD
TZOFFSETFROM:-0500
TZOFFSETTO:-0600
TZNAME:CST
DTSTART:20261101T070000
END:STANDARD
BEGIN:DAYLIGHT
TZOFFSETFROM:-0600
TZOFFSETTO:-0500
TZNAME:CDT
DTSTART:20270314T080000
END:DAYLIGHT
BEGIN:STANDARD
TZOFFSETFROM:-0500
TZOFFSETTO:-0600
TZNAME:CST
DTSTART:20271107T070000
END:STANDARD
END:VTIMEZONE
BEGIN:VEVENT
DTSTART;TZID=America/Chicago:20260321T090000
DTEND;TZID=America/Chicago:20260321T120000
DTSTAMP:20260421T113659
CREATED:20260303T183220Z
LAST-MODIFIED:20260304T153107Z
UID:24836-1774083600-1774094400@parishschool.org
SUMMARY:Spring Family Garden Day 2026
DESCRIPTION:Bring the family for a morning of gardening fun!\nYou’ll likely get dirty\, so dress comfortably. We supply the trash bags and most tools.  \nItems encouraged to bring\, but not required: \n\nShovel\nPruning shears\nGarden gloves\nBikes and scooters for the kids!\n\n *Please label your tools \nIf you choose\, bring a potted plant or two from this list for your child to plant and watch throughout their time at The Parish School: \n\nMarigolds\nOrange Snapdragons\nPurple Snapdragons\nOrange Gerbera Daisies\nYellow Gerbera Daisies\n\nWe’re looking forward to a great morning of working and growing together.
URL:https://parishschool.org/event/spring-family-garden-day-2026/
LOCATION:The Parish School\, 11001 Hammerly Blvd\, Houston\, TX\, 77043\, United States
ATTACH;FMTTYPE=image/jpeg:https://parishschool.org/wp-content/uploads/2026/03/C33A5905-scaled.jpg
END:VEVENT
END:VCALENDAR